BEGIN:VCALENDAR
VERSION:2.0
PRODID:-//As You Wish Retrievers - ECPv6.15.11//NONSGML v1.0//EN
CALSCALE:GREGORIAN
METHOD:PUBLISH
X-WR-CALNAME:As You Wish Retrievers
X-ORIGINAL-URL:https://asyouwishretrievers.com
X-WR-CALDESC:Events for As You Wish Retrievers
REFRESH-INTERVAL;VALUE=DURATION:PT1H
X-Robots-Tag:noindex
X-PUBLISHED-TTL:PT1H
BEGIN:VTIMEZONE
TZID:UTC
BEGIN:STANDARD
TZOFFSETFROM:+0000
TZOFFSETTO:+0000
TZNAME:UTC
DTSTART:20250101T000000
END:STANDARD
END:VTIMEZONE
BEGIN:VEVENT
DTSTART;VALUE=DATE:20260704
DTEND;VALUE=DATE:20260706
DTSTAMP:20260425T162703
CREATED:20250501T131210Z
LAST-MODIFIED:20260412T113438Z
UID:3211-1783123200-1783295999@asyouwishretrievers.com
SUMMARY:Retriever Challenge - Open
DESCRIPTION:
URL:https://asyouwishretrievers.com/event/retriever-challenge-tw/
END:VEVENT
END:VCALENDAR