BEGIN:VCALENDAR
VERSION:2.0
PRODID:-//As You Wish Retrievers - ECPv6.15.11//NONSGML v1.0//EN
CALSCALE:GREGORIAN
METHOD:PUBLISH
X-ORIGINAL-URL:https://asyouwishretrievers.com
X-WR-CALDESC:Events for As You Wish Retrievers
REFRESH-INTERVAL;VALUE=DURATION:PT1H
X-Robots-Tag:noindex
X-PUBLISHED-TTL:PT1H
BEGIN:VTIMEZONE
TZID:UTC
BEGIN:STANDARD
TZOFFSETFROM:+0000
TZOFFSETTO:+0000
TZNAME:UTC
DTSTART:20250101T000000
END:STANDARD
END:VTIMEZONE
BEGIN:VEVENT
DTSTART;VALUE=DATE:20260613
DTEND;VALUE=DATE:20260615
DTSTAMP:20260425T150943
CREATED:20250501T130601Z
LAST-MODIFIED:20260412T113233Z
UID:3203-1781308800-1781481599@asyouwishretrievers.com
SUMMARY:Retriever Challenge - St Clair
DESCRIPTION:
URL:https://asyouwishretrievers.com/event/retriever-challenge-kk/
END:VEVENT
BEGIN:VEVENT
DTSTART;VALUE=DATE:20260620
DTEND;VALUE=DATE:20260622
DTSTAMP:20260425T150943
CREATED:20250501T130843Z
LAST-MODIFIED:20260412T113315Z
UID:3207-1781913600-1782086399@asyouwishretrievers.com
SUMMARY:Retriever Challenge - GL
DESCRIPTION:
URL:https://asyouwishretrievers.com/event/retriever-challenge-gl/
END:VEVENT
BEGIN:VEVENT
DTSTART;VALUE=DATE:20260627
DTEND;VALUE=DATE:20260629
DTSTAMP:20260425T150943
CREATED:20250501T131036Z
LAST-MODIFIED:20260412T113337Z
UID:3209-1782518400-1782691199@asyouwishretrievers.com
SUMMARY:Retriever Challenge - CMiHRC
DESCRIPTION:
URL:https://asyouwishretrievers.com/event/retriever-challenge-cmihrc/
END:VEVENT
END:VCALENDAR